BEGIN:VCALENDAR
VERSION:2.0
PRODID:icalendar-ruby
CALSCALE:GREGORIAN
METHOD:PUBLISH
BEGIN:VEVENT
DTSTAMP:20260419T123703Z
UID:7-438313@mooerswesleyan.com
DTSTART:20260805T230000Z
DTEND:20260806T000000Z
CLASS:PUBLIC
CREATED:20260419T040458
DESCRIPTION:Prayer Meeting
LAST-MODIFIED:20260419T040458
LOCATION:Church Sanctuary
SUMMARY:Prayer Meeting
URL;VALUE=URI:https://www.mooerswesleyan.com/events/prayer-meeting/2026-08-
 05
END:VEVENT
END:VCALENDAR
