BEGIN:VCALENDAR
VERSION:2.0
PRODID:icalendar-ruby
CALSCALE:GREGORIAN
METHOD:PUBLISH
BEGIN:VEVENT
DTSTAMP:20260419T160437Z
UID:7-438636@mooerswesleyan.com
DTSTART:20260819T230000Z
DTEND:20260820T000000Z
CLASS:PUBLIC
CREATED:20260419T092909
DESCRIPTION:Prayer Meeting
LAST-MODIFIED:20260419T092909
LOCATION:Church Sanctuary
SUMMARY:Prayer Meeting
URL;VALUE=URI:https://www.mooerswesleyan.com/events/prayer-meeting/2026-08-
 19
END:VEVENT
END:VCALENDAR
