BEGIN:VCALENDAR
VERSION:2.0
PRODID:icalendar-ruby
CALSCALE:GREGORIAN
METHOD:PUBLISH
BEGIN:VEVENT
DTSTAMP:20260420T000533Z
UID:7-439285@mooerswesleyan.com
DTSTART:20260923T230000Z
DTEND:20260924T000000Z
CLASS:PUBLIC
CREATED:20260419T165326
DESCRIPTION:Prayer Meeting
LAST-MODIFIED:20260419T165326
LOCATION:Church Sanctuary
SUMMARY:Prayer Meeting
URL;VALUE=URI:https://www.mooerswesleyan.com/events/prayer-meeting/2026-09-
 23
END:VEVENT
END:VCALENDAR
