BEGIN:VCALENDAR
VERSION:2.0
PRODID:icalendar-ruby
CALSCALE:GREGORIAN
METHOD:PUBLISH
BEGIN:VEVENT
DTSTAMP:20260420T053502Z
UID:7-439932@mooerswesleyan.com
DTSTART:20261014T230000Z
DTEND:20261015T000000Z
CLASS:PUBLIC
CREATED:20260420T001230
DESCRIPTION:Prayer Meeting
LAST-MODIFIED:20260420T001230
LOCATION:Church Sanctuary
SUMMARY:Prayer Meeting
URL;VALUE=URI:https://www.mooerswesleyan.com/events/prayer-meeting/2026-10-
 14
END:VEVENT
END:VCALENDAR
