BEGIN:VCALENDAR
VERSION:2.0
PRODID:icalendar-ruby
CALSCALE:GREGORIAN
METHOD:PUBLISH
BEGIN:VEVENT
DTSTAMP:20260420T090341Z
UID:7-440256@mooerswesleyan.com
DTSTART:20261028T230000Z
DTEND:20261029T000000Z
CLASS:PUBLIC
CREATED:20260420T034952
DESCRIPTION:Prayer Meeting
LAST-MODIFIED:20260420T034952
LOCATION:Church Sanctuary
SUMMARY:Prayer Meeting
URL;VALUE=URI:https://www.mooerswesleyan.com/events/prayer-meeting/2026-10-
 28
END:VEVENT
END:VCALENDAR
