BEGIN:VCALENDAR
VERSION:2.0
PRODID:icalendar-ruby
CALSCALE:GREGORIAN
METHOD:PUBLISH
BEGIN:VEVENT
DTSTAMP:20260419T125704Z
UID:5-438251@mooerswesleyan.com
DTSTART:20260726T143000Z
DTEND:20260726T153000Z
CLASS:PUBLIC
CREATED:20260419T040458
DESCRIPTION:Sunday Worship
LAST-MODIFIED:20260419T040458
LOCATION:
SUMMARY:Sunday Worship
URL;VALUE=URI:https://www.mooerswesleyan.com/events/sunday-worship/2026-07-
 26
END:VEVENT
END:VCALENDAR
