BEGIN:VCALENDAR
VERSION:2.0
PRODID:icalendar-ruby
CALSCALE:GREGORIAN
METHOD:PUBLISH
BEGIN:VEVENT
DTSTAMP:20260419T143847Z
UID:5-438573@mooerswesleyan.com
DTSTART:20260802T143000Z
DTEND:20260802T153000Z
CLASS:PUBLIC
CREATED:20260419T092908
DESCRIPTION:Sunday Worship
LAST-MODIFIED:20260419T092908
LOCATION:
SUMMARY:Sunday Worship
URL;VALUE=URI:https://www.mooerswesleyan.com/events/sunday-worship/2026-08-
 02
END:VEVENT
END:VCALENDAR
