BEGIN:VCALENDAR
VERSION:2.0
PRODID:icalendar-ruby
CALSCALE:GREGORIAN
METHOD:PUBLISH
BEGIN:VEVENT
DTSTAMP:20260419T175904Z
UID:5-438896@mooerswesleyan.com
DTSTART:20260816T143000Z
DTEND:20260816T153000Z
CLASS:PUBLIC
CREATED:20260419T131111
DESCRIPTION:Sunday Worship
LAST-MODIFIED:20260419T131111
LOCATION:
SUMMARY:Sunday Worship
URL;VALUE=URI:https://www.mooerswesleyan.com/events/sunday-worship/2026-08-
 16
END:VEVENT
END:VCALENDAR
