BEGIN:VCALENDAR
VERSION:2.0
PRODID:icalendar-ruby
CALSCALE:GREGORIAN
METHOD:PUBLISH
BEGIN:VEVENT
DTSTAMP:20260419T230358Z
UID:5-439221@mooerswesleyan.com
DTSTART:20260906T143000Z
DTEND:20260906T153000Z
CLASS:PUBLIC
CREATED:20260419T165326
DESCRIPTION:Sunday Worship
LAST-MODIFIED:20260419T165326
LOCATION:
SUMMARY:Sunday Worship
URL;VALUE=URI:https://www.mooerswesleyan.com/events/sunday-worship/2026-09-
 06
END:VEVENT
END:VCALENDAR
