BEGIN:VCALENDAR
VERSION:2.0
PRODID:icalendar-ruby
CALSCALE:GREGORIAN
METHOD:PUBLISH
BEGIN:VEVENT
DTSTAMP:20260420T004708Z
UID:5-439544@mooerswesleyan.com
DTSTART:20260913T143000Z
DTEND:20260913T153000Z
CLASS:PUBLIC
CREATED:20260419T203523
DESCRIPTION:Sunday Worship
LAST-MODIFIED:20260419T203523
LOCATION:
SUMMARY:Sunday Worship
URL;VALUE=URI:https://www.mooerswesleyan.com/events/sunday-worship/2026-09-
 13
END:VEVENT
END:VCALENDAR
