BEGIN:VCALENDAR
VERSION:2.0
PRODID:icalendar-ruby
CALSCALE:GREGORIAN
METHOD:PUBLISH
BEGIN:VEVENT
DTSTAMP:20260420T103843Z
UID:5-440194@mooerswesleyan.com
DTSTART:20261025T143000Z
DTEND:20261025T153000Z
CLASS:PUBLIC
CREATED:20260420T034952
DESCRIPTION:Sunday Worship
LAST-MODIFIED:20260420T034952
LOCATION:
SUMMARY:Sunday Worship
URL;VALUE=URI:https://www.mooerswesleyan.com/events/sunday-worship/2026-10-
 25
END:VEVENT
END:VCALENDAR
